BEGIN:VCALENDAR
VERSION:2.0
PRODID:-//Tosteberga - ECPv6.15.20//NONSGML v1.0//EN
CALSCALE:GREGORIAN
METHOD:PUBLISH
X-ORIGINAL-URL:https://tosteberga.se
X-WR-CALDESC:Händelser för Tosteberga
REFRESH-INTERVAL;VALUE=DURATION:PT1H
X-Robots-Tag:noindex
X-PUBLISHED-TTL:PT1H
BEGIN:VTIMEZONE
TZID:Europe/Stockholm
BEGIN:DAYLIGHT
TZOFFSETFROM:+0100
TZOFFSETTO:+0200
TZNAME:CEST
DTSTART:20250330T010000
END:DAYLIGHT
BEGIN:STANDARD
TZOFFSETFROM:+0200
TZOFFSETTO:+0100
TZNAME:CET
DTSTART:20251026T010000
END:STANDARD
BEGIN:DAYLIGHT
TZOFFSETFROM:+0100
TZOFFSETTO:+0200
TZNAME:CEST
DTSTART:20260329T010000
END:DAYLIGHT
BEGIN:STANDARD
TZOFFSETFROM:+0200
TZOFFSETTO:+0100
TZNAME:CET
DTSTART:20261025T010000
END:STANDARD
BEGIN:DAYLIGHT
TZOFFSETFROM:+0100
TZOFFSETTO:+0200
TZNAME:CEST
DTSTART:20270328T010000
END:DAYLIGHT
BEGIN:STANDARD
TZOFFSETFROM:+0200
TZOFFSETTO:+0100
TZNAME:CET
DTSTART:20271031T010000
END:STANDARD
END:VTIMEZONE
BEGIN:VEVENT
DTSTART;TZID=Europe/Stockholm:20260319T183000
DTEND;TZID=Europe/Stockholm:20260319T200000
DTSTAMP:20260421T121038
CREATED:20251014T080822Z
LAST-MODIFIED:20260226T132305Z
UID:878-1773945000-1773950400@tosteberga.se
SUMMARY:Årsmöte Tosteberga byalag\, Samfällighetsföreningen\, Vattenföreningen
DESCRIPTION:Kallelse till Årsmöte i Tosteberga byalag\ntorsdagen den 19 mars 2026 kl 18.30 i IOGT-lokalen \nVattenföreningens\, Samfällighetens och Byalagets årsmöten\ndirekt efter varandra. \nMotioner lämnas till Byalaget i förväg. \nVi bjuds på fika. \nHjärtligt välkommen!
URL:https://tosteberga.se/evenemang/brasa-i-tyet-byalaget-bjuder-pa-grillad-korv/
END:VEVENT
END:VCALENDAR